BEGIN:VCALENDAR
VERSION:2.0
PRODID:-//Musika Studio - ECPv6.15.20//NONSGML v1.0//EN
CALSCALE:GREGORIAN
METHOD:PUBLISH
X-WR-CALNAME:Musika Studio
X-ORIGINAL-URL:https://musikastudio.us
X-WR-CALDESC:Events for Musika Studio
REFRESH-INTERVAL;VALUE=DURATION:PT1H
X-Robots-Tag:noindex
X-PUBLISHED-TTL:PT1H
BEGIN:VTIMEZONE
TZID:America/Los_Angeles
BEGIN:DAYLIGHT
TZOFFSETFROM:-0800
TZOFFSETTO:-0700
TZNAME:PDT
DTSTART:20160313T100000
END:DAYLIGHT
BEGIN:STANDARD
TZOFFSETFROM:-0700
TZOFFSETTO:-0800
TZNAME:PST
DTSTART:20161106T090000
END:STANDARD
BEGIN:DAYLIGHT
TZOFFSETFROM:-0800
TZOFFSETTO:-0700
TZNAME:PDT
DTSTART:20170312T100000
END:DAYLIGHT
BEGIN:STANDARD
TZOFFSETFROM:-0700
TZOFFSETTO:-0800
TZNAME:PST
DTSTART:20171105T090000
END:STANDARD
BEGIN:DAYLIGHT
TZOFFSETFROM:-0800
TZOFFSETTO:-0700
TZNAME:PDT
DTSTART:20180311T100000
END:DAYLIGHT
BEGIN:STANDARD
TZOFFSETFROM:-0700
TZOFFSETTO:-0800
TZNAME:PST
DTSTART:20181104T090000
END:STANDARD
BEGIN:DAYLIGHT
TZOFFSETFROM:-0800
TZOFFSETTO:-0700
TZNAME:PDT
DTSTART:20190310T100000
END:DAYLIGHT
BEGIN:STANDARD
TZOFFSETFROM:-0700
TZOFFSETTO:-0800
TZNAME:PST
DTSTART:20191103T090000
END:STANDARD
BEGIN:DAYLIGHT
TZOFFSETFROM:-0800
TZOFFSETTO:-0700
TZNAME:PDT
DTSTART:20200308T100000
END:DAYLIGHT
BEGIN:STANDARD
TZOFFSETFROM:-0700
TZOFFSETTO:-0800
TZNAME:PST
DTSTART:20201101T090000
END:STANDARD
BEGIN:DAYLIGHT
TZOFFSETFROM:-0800
TZOFFSETTO:-0700
TZNAME:PDT
DTSTART:20210314T100000
END:DAYLIGHT
BEGIN:STANDARD
TZOFFSETFROM:-0700
TZOFFSETTO:-0800
TZNAME:PST
DTSTART:20211107T090000
END:STANDARD
BEGIN:DAYLIGHT
TZOFFSETFROM:-0800
TZOFFSETTO:-0700
TZNAME:PDT
DTSTART:20220313T100000
END:DAYLIGHT
BEGIN:STANDARD
TZOFFSETFROM:-0700
TZOFFSETTO:-0800
TZNAME:PST
DTSTART:20221106T090000
END:STANDARD
BEGIN:DAYLIGHT
TZOFFSETFROM:-0800
TZOFFSETTO:-0700
TZNAME:PDT
DTSTART:20230312T100000
END:DAYLIGHT
BEGIN:STANDARD
TZOFFSETFROM:-0700
TZOFFSETTO:-0800
TZNAME:PST
DTSTART:20231105T090000
END:STANDARD
BEGIN:DAYLIGHT
TZOFFSETFROM:-0800
TZOFFSETTO:-0700
TZNAME:PDT
DTSTART:20240310T100000
END:DAYLIGHT
BEGIN:STANDARD
TZOFFSETFROM:-0700
TZOFFSETTO:-0800
TZNAME:PST
DTSTART:20241103T090000
END:STANDARD
BEGIN:DAYLIGHT
TZOFFSETFROM:-0800
TZOFFSETTO:-0700
TZNAME:PDT
DTSTART:20250309T100000
END:DAYLIGHT
BEGIN:STANDARD
TZOFFSETFROM:-0700
TZOFFSETTO:-0800
TZNAME:PST
DTSTART:20251102T090000
END:STANDARD
END:VTIMEZONE
BEGIN:VEVENT
DTSTART;TZID=America/Los_Angeles:20241031T133000
DTEND;TZID=America/Los_Angeles:20241031T173000
DTSTAMP:20260421T060312
CREATED:20200306T235404Z
LAST-MODIFIED:20240902T172536Z
UID:1460-1730381400-1730395800@musikastudio.us
SUMMARY:Tune N Treat
DESCRIPTION:Spooktacular Tunes will be shared and played! \nCome with a costume and enjoy some treat!
URL:https://musikastudio.us/event/tune-n-treat/
LOCATION:Musika Studio\, 1525 Mesa Verde Drive East\, Costa Mesa\, CA\, 92626\, United States
CATEGORIES:Workshops
END:VEVENT
BEGIN:VEVENT
DTSTART;TZID=America/Los_Angeles:20190813T080000
DTEND;TZID=America/Los_Angeles:20190813T170000
DTSTAMP:20260421T060312
CREATED:20190615T040711Z
LAST-MODIFIED:20190615T041522Z
UID:1439-1565683200-1565715600@musikastudio.us
SUMMARY:Step Into Broadway - Musical Theater Camp
DESCRIPTION:It’s showtime at Musika Studio! Embrace your passion for musicals and prepare for your theatrical entrance as you join us for a 2-session workshop this summer to take to your musical performance to the next level. \nThis awesome opportunity will allow students to work in small ensembles on musical theaters numbers from Annie\, Beauty and Beast\, Shrek\, Little Mermaid and more. In addition\, they will be working on choreography and acting with a professional dance instructor!  \nTuesday\, August 13\nThursday\, August 15\nFriday\, August 16 (Performance) \n11:00 AM – 1:00 PM\nCost: $125 per student \n  \nFor inquiries\, bookings and more details\, please reach out to our team at info@musikastudio.us\, or call us at (714) 852-3630 \n🎵 Open to Musika Studio students and those who would love to have some music fun.  So invite your friends and hit your best notes!
URL:https://musikastudio.us/event/step-into-broadway-musical-theater-camp/
LOCATION:Musika Studio\, 1525 Mesa Verde Drive East\, Costa Mesa\, CA\, 92626\, United States
END:VEVENT
BEGIN:VEVENT
DTSTART;TZID=America/Los_Angeles:20190720T160000
DTEND;TZID=America/Los_Angeles:20190720T180000
DTSTAMP:20260421T060312
CREATED:20190526T051444Z
LAST-MODIFIED:20190526T051457Z
UID:1432-1563638400-1563645600@musikastudio.us
SUMMARY:MusikOlympics
DESCRIPTION:Ready\, Set\, Play! Join us to this fun-filled event where students 5 – 10 years old are invited to participate in a fast-paced workshop as they compete on music-themed activities and music-inspired group games.\n\n\n\n\nKids will put their music skills to work to name the composer\, fill up the missing notes\, speedy trivia\, scavenger hunt and much more. \n\n\n\n\nEvents will include prizes and snacks. \n\n\n\n\nSaturday\, July 20\, 4:00PM – 6:00PM\nCost: $10 per student. \n\n\n\n\n\nFor inquiries\, bookings and more details\, please reach out to our team at info@musikastudio.us\, or call us at (714) 852-3630 \n🎵 Open to children who are not students at our studio but would love to have some music fun.  So invite your friends and hit your best notes!
URL:https://musikastudio.us/event/musikolympics/
END:VEVENT
BEGIN:VEVENT
DTSTART;TZID=America/Los_Angeles:20190622T160000
DTEND;TZID=America/Los_Angeles:20190622T180000
DTSTAMP:20260421T060312
CREATED:20190526T051139Z
LAST-MODIFIED:20190526T051139Z
UID:1430-1561219200-1561226400@musikastudio.us
SUMMARY:Pop & Jazz Piano Workshop
DESCRIPTION:Students who are interested in learning the basic techniques of Piano for Jazz and Pop are invited to join us at Musika Studio to a fun introductory learning experience. \nOur Jazz & Piano instructor\, Mr. Mark Herrera\, will lead the students through a hands-on workshop to help them learn the basics of chords\, different way of accompaniment and playing or singing along to the melody. \nSaturday\, June 22\, 2019 \nTime:  4:30PM – 6:00PM \n $20 per student  \nFor questions or more details please call us (714) 852-3630
URL:https://musikastudio.us/event/pop-jazz-piano-workshop/
LOCATION:Musika Studio\, 1525 Mesa Verde Drive East\, Costa Mesa\, CA\, 92626\, United States
END:VEVENT
BEGIN:VEVENT
DTSTART;TZID=America/Los_Angeles:20190323T163000
DTEND;TZID=America/Los_Angeles:20190323T183000
DTSTAMP:20260421T060312
CREATED:20190207T180218Z
LAST-MODIFIED:20190207T224328Z
UID:1409-1553358600-1553365800@musikastudio.us
SUMMARY:Spring Into Music
DESCRIPTION:Let’s spring into music with this fun-filled event where students 5 – 10 years old are invited to join us to an evening of games and activities\, all based on music themes\, where they will participate in music-inspired group games.  \nKids will put their music skills to work to name the composer\, fill up the missing notes\, speedy trivia\, scavenger hunt and much more.  \nEvents will include prizes and snacks. \nSaturday\, March 23rd 4:30p.m. – 6:30p.m. \nCost: $10 per student.  \nFor inquiries\, bookings and more details\, please reach out to our team at info@musikastudio.us\, or call us at (714) 852-3630 \n🎵 Open to children who are not students at our studio but would love to have some music fun.  So invite your friends and hit your best notes!
URL:https://musikastudio.us/event/spring-into-music/
LOCATION:Musika Studio\, 1525 Mesa Verde Drive East\, Costa Mesa\, CA\, 92626\, United States
ATTACH;FMTTYPE=image/png:https://musikastudio.us/wp-content/uploads/2017/08/1H4A3835-1.png
END:VEVENT
BEGIN:VEVENT
DTSTART;TZID=America/Los_Angeles:20190223T103000
DTEND;TZID=America/Los_Angeles:20190223T110000
DTSTAMP:20260421T060312
CREATED:20190207T232219Z
LAST-MODIFIED:20190211T170302Z
UID:1418-1550917800-1550919600@musikastudio.us
SUMMARY:Mommy & Me Free Trial Lesson
DESCRIPTION:We are delighted to be offering ‘Mommy and Me’ program to children 8 months old up to 3 years old accompanied by their parents/caregivers.Book your spot at our free trial on  \nSaturday\, February 23rd\, 10:30AM – 11:00AM  \nChildren will enjoy an exciting class of exploring different musical instruments\, singing and dancing to favorite songs and tunes. The program also offers early aural training on pitches\, rhythms and major and minor modes.  \nEngaging children in this program not only is a great way to introduce them to music but also contributes to their communication and social skills\, in addition to its influence on brain development.   \nFor inquiries\, bookings and more details please reach out to our team at info@musikastudio.us
URL:https://musikastudio.us/event/mommy-me-free-trial-lesson/
LOCATION:Musika Studio\, 1525 Mesa Verde Drive East\, Costa Mesa\, CA\, 92626\, United States
ATTACH;FMTTYPE=image/jpeg:https://musikastudio.us/wp-content/uploads/2019/02/1H4A6803-e1549580978930.jpg
END:VEVENT
BEGIN:VEVENT
DTSTART;TZID=America/Los_Angeles:20181117T143000
DTEND;TZID=America/Los_Angeles:20181117T160000
DTSTAMP:20260421T060312
CREATED:20180831T170153Z
LAST-MODIFIED:20180831T170235Z
UID:1348-1542465000-1542470400@musikastudio.us
SUMMARY:Songwriting Workshop 2
DESCRIPTION:Inviting students ages 10 to14 to join our songwriting workshop with the Los Angeles based professional songwriter Michelle Soria. \nWorkshop will introduce students to hands-on methods and exercises that include : \n\nSong structures\nEfficient practices in identifying and writing each part of a song\nDifferent types of rhymes and schemes\nPractical feedback and the opportunity to work on existing songs projects \nFinding inspiration to help in the process of writing and creating a song title. \n\nWorkshop 1: Saturday\, October 13\, 2018 \nWorkshop 2: Saturday\, November 17\, 2018 \nTime:  2:30PM-4:00PM \nCost: $50 per student/per workshop *includes snacks and refreshments \nRSVP and payments by October Saturday\, September 29th for Session 1 and November 3rd  for Session 2 \n*Non-studio-students are welcome to sign up  \n* Students must attend the workshop on October 13th
URL:https://musikastudio.us/event/songwriting-workshop-1/
LOCATION:Musika Studio\, 1525 Mesa Verde Drive East\, Costa Mesa\, CA\, 92626\, United States
END:VEVENT
BEGIN:VEVENT
DTSTART;TZID=America/Los_Angeles:20181027T170000
DTEND;TZID=America/Los_Angeles:20181027T183000
DTSTAMP:20260421T060312
CREATED:20180831T165933Z
LAST-MODIFIED:20180831T165933Z
UID:1346-1540659600-1540665000@musikastudio.us
SUMMARY:Tune-n-Treat Halloween Contest
DESCRIPTION:Join us to our Halloween musicals contest! \nBring your friends and family to tune-n-treat at Musika Studio to enjoy fantastic musicals performances for all ages \nDress up as your favorite character from all-time loved musicals or movies and sing your favorite song or play your spook-tacular tune to enter our Halloween draw.\nRSVP by October 21st to confirm your chosen song! \nSaturday October 27th\, 2018\n5:00pm – 6:30pm
URL:https://musikastudio.us/event/tune-n-treat-halloween-contest/
LOCATION:Musika Studio\, 1525 Mesa Verde Drive East\, Costa Mesa\, CA\, 92626\, United States
END:VEVENT
BEGIN:VEVENT
DTSTART;TZID=America/Los_Angeles:20181013T150000
DTEND;TZID=America/Los_Angeles:20181013T160000
DTSTAMP:20260421T060312
CREATED:20180831T170353Z
LAST-MODIFIED:20180831T172245Z
UID:1351-1539442800-1539446400@musikastudio.us
SUMMARY:Songwriting Workshop 1
DESCRIPTION:Inviting students ages 10 to14 to join our songwriting workshop with the Los Angeles based professional songwriter Michelle Soria. \nWorkshop will introduce students to hands-on methods and exercises that include : \n\nSong structures\nEfficient practices in identifying and writing each part of a song\nDifferent types of rhymes and schemes\nPractical feedback and the opportunity to work on existing songs projects \nFinding inspiration to help in the process of writing and creating a song title. \n\nWorkshop 1: Saturday\, October 13\, 2018 \nWorkshop 2: Saturday\, November 17\, 2018 \nTime:  2:30PM-4:00PM \nCost: $50 per student/per workshop *includes snacks and refreshments \nRSVP and payments by October Saturday\, September 29th for Session 1 and November 3rd  for Session 2 \n*Non-studio-students are welcome to sign up  \n* Students must attend the workshop on October 13th
URL:https://musikastudio.us/event/songwriting-workshop-1-2/
LOCATION:Musika Studio\, 1525 Mesa Verde Drive East\, Costa Mesa\, CA\, 92626\, United States
END:VEVENT
BEGIN:VEVENT
DTSTART;TZID=America/Los_Angeles:20180926T181500
DTEND;TZID=America/Los_Angeles:20180926T190000
DTSTAMP:20260421T060312
CREATED:20180901T100440Z
LAST-MODIFIED:20180901T102759Z
UID:1374-1537985700-1537988400@musikastudio.us
SUMMARY:Group Piano Trial Lesson
DESCRIPTION:Group piano lessons offer a great way for children to learn together in a class of 3 to 4 kids for 45 minutes per week.  \nLessons provide a fun and supportive environment that enables children to learn note reading\, piano keys\, understand techniques and rhythm through an appropriate curriculum.  \nThe group program emphasizes on building social skills\, positive attitude towards each other while having a fun time.  \nChildren will also enjoy interactive games and off-bench time that engages them in music reading\, ear training\, and rhythm. \nStudents will have the opportunity to participate in Musika Studio performances\, recitals and events and share their skills and achievements with their friends and family. 
URL:https://musikastudio.us/event/group-piano-trial-lesson/
LOCATION:Musika Studio\, 1525 Mesa Verde Drive East\, Costa Mesa\, CA\, 92626\, United States
ATTACH;FMTTYPE=image/jpeg:https://musikastudio.us/wp-content/uploads/2018/09/Group-Piano-4.jpg
END:VEVENT
BEGIN:VEVENT
DTSTART;TZID=America/Los_Angeles:20180919T173000
DTEND;TZID=America/Los_Angeles:20180919T181500
DTSTAMP:20260421T060312
CREATED:20180831T173124Z
LAST-MODIFIED:20180831T173124Z
UID:1357-1537378200-1537380900@musikastudio.us
SUMMARY:Children's Choir Trial Lesson
DESCRIPTION:We are delighted to introduce our new children choir program at Musika Studio! \nThroughout weekly 45-minute lessons\, the children ages 6 to 9*will learn the basics of singing in a healthy tone\, posture\, match pitch\, melody memorizing techniques\, and recognition of dynamics\, tempo\, and high and low notes.  \nAdditionally\, they will learn the basics of music theory\, reading notes through fun games and activities.  \nThe program will feature songs from musical theater\, Disney movies\, folk and fun pop! \nThe choir will get to the opportunity to perform at our recitals\, and community events! \nCall us for details about a free trial lesson with our choir conductor Ms. Saousan and ask about our friends and family special promo.  \nWednesday September 19th\, 2018  \nTime: 5:30 PM -6:15 PM \n*Children under 6 years old may ask for a meeting with Ms. Saousan to see if they can join the group.
URL:https://musikastudio.us/event/childrens-choir-trial-lesson/
LOCATION:Musika Studio\, 1525 Mesa Verde Drive East\, Costa Mesa\, CA\, 92626\, United States
END:VEVENT
BEGIN:VEVENT
DTSTART;TZID=America/Los_Angeles:20180214T170000
DTEND;TZID=America/Los_Angeles:20180214T180000
DTSTAMP:20260421T060312
CREATED:20180204T205923Z
LAST-MODIFIED:20180204T205923Z
UID:1255-1518627600-1518631200@musikastudio.us
SUMMARY:Romantic Tune Music Course
DESCRIPTION:This Valentine\, share a romantic and unforgettable experience with your significant other as you learn a song of your choice at Musika Studio.  \nTogether with your partner\, you can learn a song or a musical piece on piano\, ukulele\, guitar or voice over a course of four sessions.  \nSurprise your loved one with a romantic song that you can learn throughout this engaging and practical short course \nOr give them a musical Valentine’s present with this special course gift certificate. \nCouples 4-sessions course $220 \nPrivate 4-session course $152 \nFor more details and more info about times and dates please reach out to our staff at (714) 852-3630
URL:https://musikastudio.us/event/romantic-tune-music-course/
END:VEVENT
BEGIN:VEVENT
DTSTART;VALUE=DATE:20180120
DTEND;VALUE=DATE:20180121
DTSTAMP:20260421T060312
CREATED:20180112T055028Z
LAST-MODIFIED:20180112T111426Z
UID:1243-1516406400-1516492799@musikastudio.us
SUMMARY:Free Group and Private Trial lessons
DESCRIPTION:Come to meet our teachers and discover the fun learning experience at Musika Studio!  \nOn Saturday January 20th\, you can sign up for free trial lessons\, in piano and voice for groups and private lessons.  \nGroup piano trial lessons | ages 5 to 6 years from 10:30-11:00 AM\, and ages 7 to 8 years from 11:30 AM to 12:00 PM \nGroup voice trial lessons | ages 6-8years from 11:00-11:30 AM\, and ages 9 to 12 years from 12:00 PM to 12:30 PM \nPrivate trial lessons\, in voice and piano\, for age 8 years and above can be booked in coordination with our team.  \nRSVP by January 18th to book your child’s lesson.
URL:https://musikastudio.us/event/free-group-and-private-trial-lessons/
LOCATION:Musika Studio\, 1525 Mesa Verde Drive East\, Costa Mesa\, CA\, 92626\, United States
END:VEVENT
BEGIN:VEVENT
DTSTART;TZID=America/Los_Angeles:20171216T113000
DTEND;TZID=America/Los_Angeles:20171216T153000
DTSTAMP:20260421T060312
CREATED:20171120T123100Z
LAST-MODIFIED:20171120T123928Z
UID:1216-1513423800-1513438200@musikastudio.us
SUMMARY:Free Trial Guitar Lessons
DESCRIPTION:For those who are considering learning to play the guitar\, join Musika Studio’s free trial guitar lessons on Saturday\, December 16th from 11:30am to 3:30pm. \nYou will get to meet our guitar teacher\, Eric Salinas\, and learn some fun basic tips and how to play two or three chords\, and even learn your first simple guitar melody!  \nLessons are offered to children 8 years old and above\, and to adults from beginner to intermediate levels.  \nRSVP by December 15th to book your lesson.
URL:https://musikastudio.us/event/free-guitar-lessons-trials/
LOCATION:Musika Studio\, 1525 Mesa Verde Drive East\, Costa Mesa\, CA\, 92626\, United States
END:VEVENT
BEGIN:VEVENT
DTSTART;TZID=America/Los_Angeles:20171210T140000
DTEND;TZID=America/Los_Angeles:20171210T153000
DTSTAMP:20260421T060312
CREATED:20171114T090223Z
LAST-MODIFIED:20171114T090418Z
UID:1212-1512914400-1512919800@musikastudio.us
SUMMARY:Musika Studio Holiday Recital
DESCRIPTION:Join us to our Musika Studio annual holiday recital to celebrate the jolly season with your friends and family and enjoy favorite holiday tunes performed by our fabulous students!  \nThe program includes solo performances\, students and parents duets\, and a delightful\, heartwarming finale with sing-along holiday songs.  \nHolidays snacks and refreshments to follow!
URL:https://musikastudio.us/event/musika-studio-holiday-recital/
LOCATION:Presbyterian Church of the Covenant\, 2850 Fairview Road\, Costa Mesa\, 92626\, United States
END:VEVENT
BEGIN:VEVENT
DTSTART;TZID=America/Los_Angeles:20171118T090000
DTEND;TZID=America/Los_Angeles:20171118T094500
DTSTAMP:20260421T060312
CREATED:20171114T081856Z
LAST-MODIFIED:20171114T081917Z
UID:1207-1510995600-1510998300@musikastudio.us
SUMMARY:Mommy and Me Demo
DESCRIPTION:Moms and their little kids are welcome to join our free ‘Mommy and Me’ demo class on Saturday\, November 18th from 9:00 am to 9:45 am.\nDuring this fun-filled program\, children and their parents get to explore music through movement\, singing and dancing.\nMommy and Me program contains songs that are not only engaging and entertaining\, but diverse in their musical instrumentation and rhythms.\nChildren will have a great time using small fun instruments such as egg shakers\, rhythm sticks and many more special instruments.\n The sessions are designed to help the little children connect with their innate musical intuition while bonding with their parents \nOpen to children age 8 months- 4 years.  \n 
URL:https://musikastudio.us/event/mommy-and-me-demo/
LOCATION:Musika Studio\, 1525 Mesa Verde Drive East\, Costa Mesa\, CA\, 92626\, United States
END:VEVENT
BEGIN:VEVENT
DTSTART;TZID=America/Los_Angeles:20171112T140000
DTEND;TZID=America/Los_Angeles:20171112T164500
DTSTAMP:20260421T060312
CREATED:20171108T195520Z
LAST-MODIFIED:20171108T200053Z
UID:1202-1510495200-1510505100@musikastudio.us
SUMMARY:Musika Studio Students' Recital
DESCRIPTION:Bring your friends and family and join us to our students’ recital on November 12th.\nEnjoy all-time favorite classical and modern melodies and songs performed by our fabulous students\, who will share what they have learned in the last few months with their Musika Studio teachers.
URL:https://musikastudio.us/event/musica-studio-students-recital/
LOCATION:Presbyterian Church of the Covenant\, 2850 Fairview Road\, Costa Mesa\, 92626\, United States
END:VEVENT
BEGIN:VEVENT
DTSTART;TZID=America/Los_Angeles:20171029T133000
DTEND;TZID=America/Los_Angeles:20171029T160000
DTSTAMP:20260421T060312
CREATED:20171023T202906Z
LAST-MODIFIED:20171023T204434Z
UID:1189-1509283800-1509292800@musikastudio.us
SUMMARY:Halloween Musical Contest
DESCRIPTION:Join us to to our Halloween musicals contest!\nBring your friends and family to tune-n-treat at Musika Studio for a fun musicals program for all ages!\nDress up as your favorite character from all-time loved musicals or movies\, and sing your favorite song or play your spook-tacular tune to enter our Halloween draw for a chance to win one of our special prizes!\nRSVP by October 28\, confirming your chosen song!
URL:https://musikastudio.us/event/halloween-musical-contest/
LOCATION:Musika Studio\, 1525 Mesa Verde Drive East\, Costa Mesa\, CA\, 92626\, United States
END:VEVENT
END:VCALENDAR